Workbook

Sheet BIODATA SISWA X 2019-2020
A1: LEMBAR BUKU INDUK PESERTA DIDIK
A3: Tanggal :
A5: IDENTITAS PESERTA DIDIK (WAJIB DIISI)
A7: a. | B7: Nama Lengkap | K7: :
AR8: Pilih Kelas
A9: b. | B9: Jenis Kelamin | K9: : | V9: No. Urut diterima | AD9: =+AA9 -> 0 | AR9: X MIPA-1 | AT9: Pilih Absen
AR10: X MIPA-2 | AT10: 01
A11: c. | B11: NISN | K11: : | AP11: L = Laki-laki | AR11: X MIPA-3 | AT11: 02
AP12: P = Perempuan | AR12: X MIPA-4 | AT12: 03
AR13: X MIPA-5 | AT13: 04
A14: d. | B14: Nomor Ujian Nasional SMP/MTs | K14: : | M14: - | P14: - | S14: - | V14: - | AA14: - | AF14: - | AJ14: *) diisikan data dari jenjang sebelumnya | AR14: X MIPA-6 | AT14: 05
AR15: X MIPA-7 | AT15: 06
I16: Contoh | K16: : | L16: 2 | M16: - | N16: 2 | O16: 0 | P16: - | Q16: 0 | R16: 2 | S16: - | T16: 0 | U16: 3 | V16: - | W16: 0 | X16: 0 | Y16: 0 | Z16: 1 | AB16: 0 | AC16: 0 | AD16: 0 | AE16: 1 | AF16: - | AG16: 8 | AR16: X MIPA-8 | AT16: 07
AR17: X IPS-1 | AT17: 08
A18: e. | B18: Nomor Induk Kependudukan (NIK) | K18: : | AR18: X IPS-2 | AT18: 09
A20: f. | B20: NPSN Sekolah Asal | K20: : | AT20: 11
AT21: 12
A22: g. | B22: Nama Sekolah Asal | K22: : | AT22: 13
AT23: 14
AT24: 15
A25: h. | B25: Tempat, Tanggal Lahir | K25: : | Z25: , | AC25: - | AF25: - | AT25: 16
AT26: 17
A27: i. | B27: Agama | K27: : | AT27: 18
AT28: 19
A29: j. | B29: Anak ke | K29: : | AP29: 0 | AT29: 20
AP30: 1 | AT30: 21
AP31: 2 | AT31: 22
A32: k. | B32: Status Anak | K32: : | R32: =+L32 -> 0 | AP32: 3 | AR32: Status anak | AT32: 23
AP33: 4 | AR33: Anak kandung | AT33: 24
A34: l. | B34: Berkebutuhan khusus | K34: : | L34: - | Q34: - | AP34: 5 | AR34: Anak angkat | AT34: 25
AP35: 6 | AR35: Anak tiri | AT35: 26
A36: m. | B36: Alamat Tempat Tinggal | K36: : | AR36: Anak asuh | AT36: 27
AR37: Anak luar nikah | AT37: 28
B38: - | C38: Dusun | K38: : | AC38: RT : | AG38: RW : | AT38: 29
AT39: 30
B40: - | C40: Kelurahan / Desa | K40: : | AB40: Kode Pos : | AT40: 31
AT41: 32
B42: - | C42: Kecamatan | K42: : | AT42: 33
AT43: 34
B44: - | C44: Kabupaten / Kota | K44: : | AT44: 35
...

Sheet REKAP
A1: No. Urut | B1: NAMA | C1: L/P | D1: NISN | E1: NO. UJIAN | F1: NIK | G1: NPSN | H1: NAMA SMP | I1: TEMPAT LAHIR | J1: TGL | K1: TANGGAL | L1: AGAMA | M1: Anak ke | N1: Status Anak | O1: KEBUTUHAN KHUSUS | P1: YA/TIDAK | Q1: JALAN | R1: DUSUN | S1: RT | T1: RW | U1: KEL. | V1: KEC. | W1: KOTA | X1: PROVINSI | Y1: KOORDINAT | Z1: KODEPOS | AA1: TRANSPOR | AB1: TINGGAL | AC1: NO. TELP | AD1: NO.HP | AE1: EMAIL | AF1: NO.KKS | AG1: KPS/PKH | AH1: NO.KPS/KPH | AI1: LAYAK_PIP | AJ1: ALASAN | AK1: PENERIMA_PIP | AL1: NO_KIP | AM1: NAMA_PIP | AN1: ALASAN_MENOLAK | AO1: NO_REG AKTA | AP1: NAMA_AYAH | AQ1: THN_LAHIR AYAH | AR1: NIK_AYAH | AS1: KHUSUS | AT1: YA/TIDAK | AU1: PEKERJAAN | AV1: PENDIDIKAN | AW1: PENDAPATAN | AX1: nop HP. Ayah | AY1: NAMA_IBU | AZ1: THN_LAHIR IBU | BA1: NIK_IBU | BB1: KHUSUS | BC1: YA/TIDAK | BD1: PEKERJAAN | BE1: PENDIDIKAN | BF1: PENDAPATAN | BG1: nop HP. Ibu | BH1: NAMA_WALI | BI1: THN_LAHIR WALI | BJ1: NIK_WALI | BK1: KHUSUS | BL1: YA/TIDAK | BM1: PEKERJAAN | BN1: PENDIDIKAN | BO1: PENDAPATAN | BP1: TINGGI | BQ1: BERAT | BR1: LINGKAR KEPALA | BS1: JARAK1 | BT1: JARAK2 | BU1: WAKTU1 | BV1: WAKTU2 | BW1: SAUDARA | BX1: PRESTASI1 | BY1: TINGKAT1 | BZ1: NAMAPRESTASI1 | CA1: TAHUN1 | CB1: PENYELENGGARA1 | CC1: PRESTASI2 | CD1: TINGKAT2 | CE1: NAMAPRESTASI2 | CF1: TAHUN2 | CG1: PENYELENGGARA2 | CH1: PRESTASI3 | CI1: TINGKAT3 | CJ1: NAMAPRESTASI3 | CK1: TAHUN3 | CL1: PENYELENGGARA3 | CM1: PRESTASI4 | CN1: TINGKAT4 | CO1: NAMAPRESTASI4 | CP1: TAHUN4 | CQ1: PENYELENGGARA4 | CR1: PRESTASI5 | CS1: TINGKAT5 | CT1: NAMAPRESTASI5 | CU1: TAHUN5 | CV1: PENYELENGGARA5 | CW1: BEASISWA_J1 | CX1: BEASISWA_P1 | CY1: TAHUN_M1 | CZ1: TAHUN_S1 | DA1: BEASISWA_J2 | DB1: BEASISWA_P2 | DC1: TAHUN_M2 | DD1: TAHUN_S2 | DE1: BEASISWA_J3 | DF1: BEASISWA_P3 | DG1: TAHUN_M3 | DH1: TAHUN_S3 | DI1: KESJH_1 | DJ1: NOKESJH_1 | DK1: T_KESJH_1 | DL1: T_KESJH_S1 | DM1: KESJH_2 | DN1: NOKESJH_2 | DO1: T_KESJH_2 | DP1: T_KESJH_S2 | DQ1: KESJH_3 | DR1: NOKESJH_3 | DS1: T_KESJH_3 | DT1: T_KESJH_S4 | DU1: T_KESJH_4 | DV1: T_KESJH_S4 | DW1: KESJH_4 | DX1: NOKESJH_4
A2: =+'BIODATA SISWA X 2019-2020'!AA9 -> 0 | B2: =+'BIODATA SISWA X 2019-2020'!L7 -> 0 | C2: =+'BIODATA SISWA X 2019-2020'!L9 -> 0 | D2: =+'BIODATA SISWA X 2019-2020'!L11&'BIODATA SISWA X 2019-2020'!M11&'BIODATA SISWA X 2019-2020'!N11&'BIODATA SISWA X 2019-2020'!O11&'BIODATA SISWA X 2019-2020'!P11&'BIODATA SISWA X 2019-2020'!Q11&'BIODATA SISWA X 2019-2020'!R11&'BIODATA SISWA X 2019-2020'!S11&'BIODATA SISWA X 2019-2020'!T11&'BIODATA SISWA X 2019-2020'!U11 | E2: =+'BIODATA SISWA X 2019-2020'!L14&'BIODATA SISWA X 2019-2020'!M14&'BIODATA SISWA X 2019-2020'!N14&'BIODATA SISWA X 2019-2020'!O14&'BIODATA SISWA X 2019-2020'!P14&'BIODATA SISWA X 2019-2020'!Q14&'BIODATA SISWA X 2019-2020'!R14&'BIODATA SISWA X 2019-2020'!S14&'BIODATA SISWA X 2019-2020'!T14&'BIODATA SISWA X 2019-2020'!U14&'BIODATA SISWA X 2019-2020'!V14&'BIODATA SISWA X 2019-2020'!W14&'BIODATA SISWA X 2019-2020'!X14&'BIODATA SISWA X 2019-2020'!Y14&'BIODATA SISWA X 2019-2020'!Z14&'BIODATA SISWA X 2019-2020'!AA14&'BIODATA SISWA X 2019-2020'!AB14&'BIODATA SISWA X 2019-2020'!AC14&'BIODATA SISWA X 2019-2020'!AD14&'BIODATA SISWA X 2019-2020'!AE14&'BIODATA SISWA X 2019-2020'!AF14&'BIODATA SISWA X 2019-2020'!AG14 -> ------ | F2: =+'BIODATA SISWA X 2019-2020'!L18&'BIODATA SISWA X 2019-2020'!M18&'BIODATA SISWA X 2019-2020'!N18&'BIODATA SISWA X 2019-2020'!O18&'BIODATA SISWA X 2019-2020'!P18&'BIODATA SISWA X 2019-2020'!Q18&'BIODATA SISWA X 2019-2020'!R18&'BIODATA SISWA X 2019-2020'!S18&'BIODATA SISWA X 2019-2020'!T18&'BIODATA SISWA X 2019-2020'!U18&'BIODATA SISWA X 2019-2020'!V18&'BIODATA SISWA X 2019-2020'!W18&'BIODATA SISWA X 2019-2020'!X18&'BIODATA SISWA X 2019-2020'!Y18&'BIODATA SISWA X 2019-2020'!Z18&'BIODATA SISWA X 2019-2020'!AA18 | G2: =+'BIODATA SISWA X 2019-2020'!L20&'BIODATA SISWA X 2019-2020'!M20&'BIODATA SISWA X 2019-2020'!N20&'BIODATA SISWA X 2019-2020'!O20&'BIODATA SISWA X 2019-2020'!P20&'BIODATA SISWA X 2019-2020'!Q20&'BIODATA SISWA X 2019-2020'!R20&'BIODATA SISWA X 2019-2020'!S20 | H2: =+'BIODATA SISWA X 2019-2020'!L22 -> 0 | I2: =+'BIODATA SISWA X 2019-2020'!L25 -> 0 | J2: =+'BIODATA SISWA X 2019-2020'!AA25&'BIODATA SISWA X 2019-2020'!AB25&'BIODATA SISWA X 2019-2020'!AD25&'BIODATA SISWA X 2019-2020'!AE25&'BIODATA SISWA X 2019-2020'!AG25&'BIODATA SISWA X 2019-2020'!AH25&'BIODATA SISWA X 2019-2020'!AI25&'BIODATA SISWA X 2019-2020'!AJ25 | K2: =DATE(RIGHT(J2,4),MID(J2,3,2),LEFT(J2,2)) -> #VALUE! | L2: =+'BIODATA SISWA X 2019-2020'!L27 -> 0 | M2: =+'BIODATA SISWA X 2019-2020'!L29 -> 0 | N2: =+'BIODATA SISWA X 2019-2020'!R32 -> 0 | O2: =+'BIODATA SISWA X 2019-2020'!L34 -> - | P2: =+'BIODATA SISWA X 2019-2020'!Q34 -> - | Q2: =+'BIODATA SISWA X 2019-2020'!L36 -> 0 | R2: =+'BIODATA SISWA X 2019-2020'!L38 -> 0 | S2: =+'BIODATA SISWA X 2019-2020'!AE38&'BIODATA SISWA X 2019-2020'!AF38 | T2: =+'BIODATA SISWA X 2019-2020'!AI38&'BIODATA SISWA X 2019-2020'!AJ38 | U2: =+'BIODATA SISWA X 2019-2020'!L40 -> 0 | V2: =+'BIODATA SISWA X 2019-2020'!L42 -> 0 | W2: =+'BIODATA SISWA X 2019-2020'!L44 -> 0 | X2: =+'BIODATA SISWA X 2019-2020'!L46 -> 0 | Y2: =+'BIODATA SISWA X 2019-2020'!L48 -> 0 | Z2: =+'BIODATA SISWA X 2019-2020'!AF40&'BIODATA SISWA X 2019-2020'!AG40&'BIODATA SISWA X 2019-2020'!AH40&'BIODATA SISWA X 2019-2020'!AI40&'BIODATA SISWA X 2019-2020'!AJ40 | AA2: =+'BIODATA SISWA X 2019-2020'!L50 -> 0 | AB2: =+'BIODATA SISWA X 2019-2020'!L52 -> 0 | AC2: =+'BIODATA SISWA X 2019-2020'!L54&'BIODATA SISWA X 2019-2020'!M54&'BIODATA SISWA X 2019-2020'!N54&'BIODATA SISWA X 2019-2020'!O54&"-"&'BIODATA SISWA X 2019-2020'!Q54&'BIODATA SISWA X 2019-2020'!R54&'BIODATA SISWA X 2019-2020'!S54&'BIODATA SISWA X 2019-2020'!T54&'BIODATA SISWA X 2019-2020'!U54&'BIODATA SISWA X 2019-2020'!V54&'BIODATA SISWA X 2019-2020'!W54&'BIODATA SISWA X 2019-2020'!X54 -> - | AD2: =+'BIODATA SISWA X 2019-2020'!AC54&'BIODATA SISWA X 2019-2020'!AD54&'BIODATA SISWA X 2019-2020'!AE54&'BIODATA SISWA X 2019-2020'!AF54&'BIODATA SISWA X 2019-2020'!AG54&'BIODATA SISWA X 2019-2020'!AH54&'BIODATA SISWA X 2019-2020'!AI54&'BIODATA SISWA X 2019-2020'!AJ54&'BIODATA SISWA X 2019-2020'!AK54&'BIODATA SISWA X 2019-2020'!AL54&'BIODATA SISWA X 2019-2020'!AM54&'BIODATA SISWA X 2019-2020'!AN54&'BIODATA SISWA X 2019-2020'!AO54 | AE2: =+'BIODATA SISWA X 2019-2020'!L56 -> 0 | AF2: =+'BIODATA SISWA X 2019-2020'!L58 -> 0 | AG2: =+'BIODATA SISWA X 2019-2020'!L60 -> 0 | AH2: =+'BIODATA SISWA X 2019-2020'!U60&'BIODATA SISWA X 2019-2020'!V60&'BIODATA SISWA X 2019-2020'!W60&'BIODATA SISWA X 2019-2020'!X60&'BIODATA SISWA X 2019-2020'!Y60&'BIODATA SISWA X 2019-2020'!Z60&'BIODATA SISWA X 2019-2020'!AA60&'BIODATA SISWA X 2019-2020'!AB60&'BIODATA SISWA X 2019-2020'!AC60&'BIODATA SISWA X 2019-2020'!AD60&'BIODATA SISWA X 2019-2020'!AE60&'BIODATA SISWA X 2019-2020'!AF60&'BIODATA SISWA X 2019-2020'!AG60&'BIODATA SISWA X 2019-2020'!AH60&'BIODATA SISWA X 2019-2020'!AI60&'BIODATA SISWA X 2019-2020'!AJ60 | AI2: =+'BIODATA SISWA X 2019-2020'!L62 -> 0 | AJ2: =+'BIODATA SISWA X 2019-2020'!U62 -> 0 | AK2: =+'BIODATA SISWA X 2019-2020'!L64 -> 0 | AL2: =+'BIODATA SISWA X 2019-2020'!U64 -> 0 | AM2: =+'BIODATA SISWA X 2019-2020'!L66 -> 0 | AN2: =+'BIODATA SISWA X 2019-2020'!L68 -> 0 | AO2: =+'BIODATA SISWA X 2019-2020'!L70 -> 0 | AP2: =+'BIODATA SISWA X 2019-2020'!L74 -> 0 | AQ2: =+'BIODATA SISWA X 2019-2020'!AL74&'BIODATA SISWA X 2019-2020'!AM74&'BIODATA SISWA X 2019-2020'!AN74&'BIODATA SISWA X 2019-2020'!AO74 | AR2: =+'BIODATA SISWA X 2019-2020'!L76&'BIODATA SISWA X 2019-2020'!M76&'BIODATA SISWA X 2019-2020'!N76&'BIODATA SISWA X 2019-2020'!O76&'BIODATA SISWA X 2019-2020'!P76&'BIODATA SISWA X 2019-2020'!Q76&'BIODATA SISWA X 2019-2020'!R76&'BIODATA SISWA X 2019-2020'!S76&'BIODATA SISWA X 2019-2020'!T76&'BIODATA SISWA X 2019-2020'!U76&'BIODATA SISWA X 2019-2020'!V76&'BIODATA SISWA X 2019-2020'!W76&'BIODATA SISWA X 2019-2020'!X76&'BIODATA SISWA X 2019-2020'!Y76&'BIODATA SISWA X 2019-2020'!Z76&'BIODATA SISWA X 2019-2020'!AA76 | AS2: =+'BIODATA SISWA X 2019-2020'!L78 -> 0 | AT2: =+'BIODATA SISWA X 2019-2020'!Q78 -> 0 | AU2: =+'BIODATA SISWA X 2019-2020'!L80 -> 0 | AV2: =+'BIODATA SISWA X 2019-2020'!L82 -> 0 | AW2: =+'BIODATA SISWA X 2019-2020'!L84 -> 0 | AX2: =+'BIODATA SISWA X 2019-2020'!L86&'BIODATA SISWA X 2019-2020'!M86&'BIODATA SISWA X 2019-2020'!N86&'BIODATA SISWA X 2019-2020'!O86&'BIODATA SISWA X 2019-2020'!P86&'BIODATA SISWA X 2019-2020'!Q86&'BIODATA SISWA X 2019-2020'!R86&'BIODATA SISWA X 2019-2020'!S86&'BIODATA SISWA X 2019-2020'!T86&'BIODATA SISWA X 2019-2020'!U86&'BIODATA SISWA X 2019-2020'!V86&'BIODATA SISWA X 2019-2020'!W86&'BIODATA SISWA X 2019-2020'!X86 | AY2: =+'BIODATA SISWA X 2019-2020'!L90 -> 0 | AZ2: =+'BIODATA SISWA X 2019-2020'!AL90&'BIODATA SISWA X 2019-2020'!AM90&'BIODATA SISWA X 2019-2020'!AN90&'BIODATA SISWA X 2019-2020'!AO90 | BA2: =+'BIODATA SISWA X 2019-2020'!L92&'BIODATA SISWA X 2019-2020'!M92&'BIODATA SISWA X 2019-2020'!N92&'BIODATA SISWA X 2019-2020'!O92&'BIODATA SISWA X 2019-2020'!P92&'BIODATA SISWA X 2019-2020'!Q92&'BIODATA SISWA X 2019-2020'!R92&'BIODATA SISWA X 2019-2020'!S92&'BIODATA SISWA X 2019-2020'!T92&'BIODATA SISWA X 2019-2020'!U92&'BIODATA SISWA X 2019-2020'!V92&'BIODATA SISWA X 2019-2020'!W92&'BIODATA SISWA X 2019-2020'!X92&'BIODATA SISWA X 2019-2020'!Y92&'BIODATA SISWA X 2019-2020'!Z92&'BIODATA SISWA X 2019-2020'!AA92 | BB2: =+'BIODATA SISWA X 2019-2020'!L94 -> 0 | BC2: =+'BIODATA SISWA X 2019-2020'!Q94 -> 0 | BD2: =+'BIODATA SISWA X 2019-2020'!L96 -> 0 | BE2: =+'BIODATA SISWA X 2019-2020'!L98 -> 0 | BF2: =+'BIODATA SISWA X 2019-2020'!L100 -> 0 | BG2: =+'BIODATA SISWA X 2019-2020'!L102&'BIODATA SISWA X 2019-2020'!M102&'BIODATA SISWA X 2019-2020'!N102&'BIODATA SISWA X 2019-2020'!O102&'BIODATA SISWA X 2019-2020'!P102&'BIODATA SISWA X 2019-2020'!Q102&'BIODATA SISWA X 2019-2020'!R102&'BIODATA SISWA X 2019-2020'!S102&'BIODATA SISWA X 2019-2020'!T102&'BIODATA SISWA X 2019-2020'!U102&'BIODATA SISWA X 2019-2020'!V102&'BIODATA SISWA X 2019-2020'!W102&'BIODATA SISWA X 2019-2020'!X102 | BH2: =+'BIODATA SISWA X 2019-2020'!L106 -> 0 | BI2: =+'BIODATA SISWA X 2019-2020'!AL106&'BIODATA SISWA X 2019-2020'!AM106&'BIODATA SISWA X 2019-2020'!AN106&'BIODATA SISWA X 2019-2020'!AO106 | BJ2: =+'BIODATA SISWA X 2019-2020'!L108&'BIODATA SISWA X 2019-2020'!M108&'BIODATA SISWA X 2019-2020'!N108&'BIODATA SISWA X 2019-2020'!O108&'BIODATA SISWA X 2019-2020'!P108&'BIODATA SISWA X 2019-2020'!Q108&'BIODATA SISWA X 2019-2020'!R108&'BIODATA SISWA X 2019-2020'!S108&'BIODATA SISWA X 2019-2020'!T108&'BIODATA SISWA X 2019-2020'!U108&'BIODATA SISWA X 2019-2020'!V108&'BIODATA SISWA X 2019-2020'!W108&'BIODATA SISWA X 2019-2020'!X108&'BIODATA SISWA X 2019-2020'!Y108&'BIODATA SISWA X 2019-2020'!Z108&'BIODATA SISWA X 2019-2020'!AA108 | BK2: =+'BIODATA SISWA X 2019-2020'!L110 -> 0 | BL2: =+'BIODATA SISWA X 2019-2020'!Q110 -> 0 | BM2: =+'BIODATA SISWA X 2019-2020'!L112 -> 0 | BN2: =+'BIODATA SISWA X 2019-2020'!L114 -> 0 | BO2: =+'BIODATA SISWA X 2019-2020'!L116 -> 0 | BP2: =+'BIODATA SISWA X 2019-2020'!L120&'BIODATA SISWA X 2019-2020'!M120&'BIODATA SISWA X 2019-2020'!N120 | BQ2: =+'BIODATA SISWA X 2019-2020'!AE120&'BIODATA SISWA X 2019-2020'!AF120&'BIODATA SISWA X 2019-2020'!AG120 | BS2: =+'BIODATA SISWA X 2019-2020'!L122 -> 0 | BT2: =+'BIODATA SISWA X 2019-2020'!AE122&'BIODATA SISWA X 2019-2020'!AF122 | BU2: =+'BIODATA SISWA X 2019-2020'!L124 -> 0 | BV2: =+'BIODATA SISWA X 2019-2020'!AE124&'BIODATA SISWA X 2019-2020'!AF124&'BIODATA SISWA X 2019-2020'!AG124 | BW2: =+'BIODATA SISWA X 2019-2020'!L126&'BIODATA SISWA X 2019-2020'!M126 | BX2: =+'BIODATA SISWA X 2019-2020'!B132 -> 0 | BY2: =+'BIODATA SISWA X 2019-2020'!I132 -> 0 | BZ2: =+'BIODATA SISWA X 2019-2020'!O132 -> 0 | CA2: =+'BIODATA SISWA X 2019-2020'!AB132&'BIODATA SISWA X 2019-2020'!AC132&'BIODATA SISWA X 2019-2020'!AD132&'BIODATA SISWA X 2019-2020'!AE132 | CB2: =+'BIODATA SISWA X 2019-2020'!AG132 -> 0 | CC2: =+'BIODATA SISWA X 2019-2020'!B134 -> 0 | CD2: =+'BIODATA SISWA X 2019-2020'!I134 -> 0 | CE2: =+'BIODATA SISWA X 2019-2020'!O134 -> 0 | CF2: =+'BIODATA SISWA X 2019-2020'!AB134&'BIODATA SISWA X 2019-2020'!AC134&'BIODATA SISWA X 2019-2020'!AD134&'BIODATA SISWA X 2019-2020'!AE134 | CG2: =+'BIODATA SISWA X 2019-2020'!AG134 -> 0 | CH2: =+'BIODATA SISWA X 2019-2020'!B136 -> 0 | CI2: =+'BIODATA SISWA X 2019-2020'!I136 -> 0 | CJ2: =+'BIODATA SISWA X 2019-2020'!O136 -> 0 | CK2: =+'BIODATA SISWA X 2019-2020'!AB136&'BIODATA SISWA X 2019-2020'!AC136&'BIODATA SISWA X 2019-2020'!AD136&'BIODATA SISWA X 2019-2020'!AE136 | CL2: =+'BIODATA SISWA X 2019-2020'!AG136 -> 0 | CM2: =+'BIODATA SISWA X 2019-2020'!B138 -> 0 | CN2: =+'BIODATA SISWA X 2019-2020'!I138 -> 0 | CO2: =+'BIODATA SISWA X 2019-2020'!O138 -> 0 | CP2: =+'BIODATA SISWA X 2019-2020'!AB138&'BIODATA SISWA X 2019-2020'!AC138&'BIODATA SISWA X 2019-2020'!AD138&'BIODATA SISWA X 2019-2020'!AE138 | CQ2: =+'BIODATA SISWA X 2019-2020'!AG138 -> 0 | CR2: =+'BIODATA SISWA X 2019-2020'!B140 -> 0 | CS2: =+'BIODATA SISWA X 2019-2020'!I140 -> 0 | CT2: =+'BIODATA SISWA X 2019-2020'!O140 -> 0 | CU2: =+'BIODATA SISWA X 2019-2020'!AB140&'BIODATA SISWA X 2019-2020'!AC140&'BIODATA SISWA X 2019-2020'!AD140&'BIODATA SISWA X 2019-2020'!AE140 | CV2: =+'BIODATA SISWA X 2019-2020'!AG140 -> 0 | CW2: =+'BIODATA SISWA X 2019-2020'!B146 -> 0 | CX2: =+'BIODATA SISWA X 2019-2020'!F146 -> 0 | CY2: =+'BIODATA SISWA X 2019-2020'!AG146&'BIODATA SISWA X 2019-2020'!AH146&'BIODATA SISWA X 2019-2020'!AI146&'BIODATA SISWA X 2019-2020'!AJ146 | CZ2: =+'BIODATA SISWA X 2019-2020'!AL146&'BIODATA SISWA X 2019-2020'!AM146&'BIODATA SISWA X 2019-2020'!AN146&'BIODATA SISWA X 2019-2020'!AO146 | DA2: =+'BIODATA SISWA X 2019-2020'!B148 -> 0 | DB2: =+'BIODATA SISWA X 2019-2020'!F148 -> 0 | DC2: =+'BIODATA SISWA X 2019-2020'!AG148&'BIODATA SISWA X 2019-2020'!AH148&'BIODATA SISWA X 2019-2020'!AI148&'BIODATA SISWA X 2019-2020'!AJ148 | DD2: =+'BIODATA SISWA X 2019-2020'!AL148&'BIODATA SISWA X 2019-2020'!AM148&'BIODATA SISWA X 2019-2020'!AN148&'BIODATA SISWA X 2019-2020'!AO148 | DE2: =+'BIODATA SISWA X 2019-2020'!B150 -> 0 | DF2: =+'BIODATA SISWA X 2019-2020'!F150 -> 0 | DG2: =+'BIODATA SISWA X 2019-2020'!AG150&'BIODATA SISWA X 2019-2020'!AH150&'BIODATA SISWA X 2019-2020'!AI150&'BIODATA SISWA X 2019-2020'!AJ150 | DH2: =+'BIODATA SISWA X 2019-2020'!AL150&'BIODATA SISWA X 2019-2020'!AM150&'BIODATA SISWA X 2019-2020'!AN150&'BIODATA SISWA X 2019-2020'!AO150 | DI2: =+'BIODATA SISWA X 2019-2020'!B156 -> 0 | DJ2: =+'BIODATA SISWA X 2019-2020'!J156 -> 0 | DK2: =+'BIODATA SISWA X 2019-2020'!AG156&'BIODATA SISWA X 2019-2020'!AH156&'BIODATA SISWA X 2019-2020'!AI156&'BIODATA SISWA X 2019-2020'!AJ156 | DL2: =+'BIODATA SISWA X 2019-2020'!AL156&'BIODATA SISWA X 2019-2020'!AM156&'BIODATA SISWA X 2019-2020'!AN156&'BIODATA SISWA X 2019-2020'!AO156 | DM2: =+'BIODATA SISWA X 2019-2020'!B158 -> 0 | DN2: =+'BIODATA SISWA X 2019-2020'!J158 -> 0 | DO2: =+'BIODATA SISWA X 2019-2020'!AG158&'BIODATA SISWA X 2019-2020'!AH158&'BIODATA SISWA X 2019-2020'!AI158&'BIODATA SISWA X 2019-2020'!AJ158 | DP2: =+'BIODATA SISWA X 2019-2020'!AL158&'BIODATA SISWA X 2019-2020'!AM158&'BIODATA SISWA X 2019-2020'!AN158&'BIODATA SISWA X 2019-2020'!AO158 | DQ2: =+'BIODATA SISWA X 2019-2020'!B160 -> 0 | DR2: =+'BIODATA SISWA X 2019-2020'!J160 -> 0 | DS2: =+'BIODATA SISWA X 2019-2020'!AG160&'BIODATA SISWA X 2019-2020'!AH160&'BIODATA SISWA X 2019-2020'!AI160&'BIODATA SISWA X 2019-2020'!AJ160 | DT2: =+'BIODATA SISWA X 2019-2020'!AL160&'BIODATA SISWA X 2019-2020'!AM160&'BIODATA SISWA X 2019-2020'!AN160&'BIODATA SISWA X 2019-2020'!AO160 | DU2: =+'BIODATA SISWA X 2019-2020'!B162 -> 0 | DV2: =+'BIODATA SISWA X 2019-2020'!J162 -> 0 | DW2: =+'BIODATA SISWA X 2019-2020'!AG162&'BIODATA SISWA X 2019-2020'!AH162&'BIODATA SISWA X 2019-2020'!AI162&'BIODATA SISWA X 2019-2020'!AJ162 | DX2: =+'BIODATA SISWA X 2019-2020'!AL162&'BIODATA SISWA X 2019-2020'!AM162&'BIODATA SISWA X 2019-2020'!AN162&'BIODATA SISWA X 2019-2020'!AO162
